BEGIN:VCALENDAR
VERSION:2.0
PRODID:-//www.ketchikanarts.org//NONSGML kigkonsult.se iCalcreator 2.30.10/
 /
CALSCALE:GREGORIAN
METHOD:PUBLISH
UID:b14ed936-fc34-497d-bd58-a00fcf4a4992
X-WR-CALDESC:Dr. Emily Moore\, author of Proud Raven\, Panting Wolf\, prese
 nts research on “Seattle Pole” a Taan’ta Khwaan Gaanaxh.adi pole that was 
 stolen from Tongass Island in 1899 and erected in Seattle’s Pioneer Square
X-WR-RELCALID:c5f58f8855e50d5db01e76b075c68ff6
X-WR-TIMEZONE:America/Anchorage
BEGIN:VTIMEZONE
TZID:America/Anchorage
BEGIN:STANDARD
TZNAME:AKST
DTSTART:20221106T020000
TZOFFSETFROM:-0800
TZOFFSETTO:-0900
RDATE:20231105T020000
END:STANDARD
BEGIN:DAYLIGHT
TZNAME:AKDT
DTSTART:20220313T020000
TZOFFSETFROM:-0900
TZOFFSETTO:-0800
RDATE:20230312T020000
RDATE:20240310T020000
END:DAYLIGHT
END:VTIMEZONE
BEGIN:VEVENT
UID:c9f70ac5-960e-41a8-9c98-b3666f58dc7d
DTSTAMP:20260426T042737Z
DESCRIPTION:Dr. Emily Moore\, author of Proud Raven\, Panting Wolf\, presen
 ts research on “Seattle Pole” a Taan’ta Khwaan Gaanaxh.adi pole that was s
 tolen from Tongass Island in 1899 and erected in Seattle’s Pioneer Square
DTSTART;TZID=America/Anchorage:20230210T170000
DTEND;TZID=America/Anchorage:20230210T180000
LOCATION:Southeast Alaska Discovery Center
SUMMARY:SEADC Friday Night Insight - In Search of Taakhwaani
END:VEVENT
END:VCALENDAR
