BEGIN:VCALENDAR
VERSION:2.0
PRODID:-//www.ketchikanarts.org//NONSGML kigkonsult.se iCalcreator 2.30.10/
 /
CALSCALE:GREGORIAN
METHOD:PUBLISH
UID:02eaa3a4-a87b-4fde-879b-0dd46cdece16
X-WR-CALDESC:Get up close and personal with selected pieces from 'Choose Wi
 sely'\, the 37th Annual Wearable Art Show.
X-WR-RELCALID:996e8799e77df2c5ddce4dad2101b9fb
X-WR-TIMEZONE:America/Anchorage
BEGIN:VTIMEZONE
TZID:America/Anchorage
BEGIN:STANDARD
TZNAME:AKST
DTSTART:20221106T020000
TZOFFSETFROM:-0800
TZOFFSETTO:-0900
RDATE:20231105T020000
END:STANDARD
BEGIN:DAYLIGHT
TZNAME:AKDT
DTSTART:20220313T020000
TZOFFSETFROM:-0900
TZOFFSETTO:-0800
RDATE:20230312T020000
RDATE:20240310T020000
END:DAYLIGHT
END:VTIMEZONE
BEGIN:VEVENT
UID:a92323a0-2836-4efa-805a-11a8715528be
DTSTAMP:20260426T043210Z
DESCRIPTION:Get up close and personal with selected pieces from 'Choose Wis
 ely'\, the 37th Annual Wearable Art Show.
DTSTART;TZID=America/Anchorage:20230210T170000
DTEND;TZID=America/Anchorage:20230225T190000
LOCATION:Main Street Gallery
SUMMARY:Main Street Gallery 'The 37th Annual Wearable Art Show Exhibit'
END:VEVENT
END:VCALENDAR
