BEGIN:VCALENDAR
VERSION:2.0
PRODID:-//www.ketchikanarts.org//NONSGML kigkonsult.se iCalcreator 2.30.10/
 /
CALSCALE:GREGORIAN
METHOD:PUBLISH
UID:a4ac4b18-eac0-4557-a5b3-c586d14ff6bf
X-WR-CALDESC:Tia Hardanger will be teaching a beginning Norwegian Hardanger
  embroidery class in February (Feb. 5\, 12\, 19\, 26) from 2:00 to 3:30 at
  the First Lutheran Church 1200 Tongass Ave. in the downstairs fellowship 
 hall. Cost is $30. and class size is limited to 8 people. Supplies are pro
 vided to complete a Hardanger project like the one in photo. Email Tia to 
 register !
X-WR-RELCALID:0467ee3e4b16d28c07f909cb6e26e1be
X-WR-TIMEZONE:America/Anchorage
BEGIN:VTIMEZONE
TZID:America/Anchorage
BEGIN:STANDARD
TZNAME:AKST
DTSTART:20221106T020000
TZOFFSETFROM:-0800
TZOFFSETTO:-0900
RDATE:20231105T020000
END:STANDARD
BEGIN:DAYLIGHT
TZNAME:AKDT
DTSTART:20220313T020000
TZOFFSETFROM:-0900
TZOFFSETTO:-0800
RDATE:20230312T020000
RDATE:20240310T020000
END:DAYLIGHT
END:VTIMEZONE
BEGIN:VEVENT
UID:9498a4f6-0ea9-43f6-836d-ab7a1224a260
DTSTAMP:20260426T042737Z
DESCRIPTION:Tia Hardanger will be teaching a beginning Norwegian Hardanger 
 embroidery class in February (Feb. 5\, 12\, 19\, 26) from 2:00 to 3:30 at 
 the First Lutheran Church 1200 Tongass Ave. in the downstairs fellowship h
 all. Cost is $30. and class size is limited to 8 people. Supplies are prov
 ided to complete a Hardanger project like the one in photo. Email Tia to r
 egister !
DTSTART;TZID=America/Anchorage:20230205T140000
DTEND;TZID=America/Anchorage:20230205T153000
LOCATION:First Lutheran Church 1200 Tongass Ave
SUMMARY:Norwegian Hardanger embroidery Class
END:VEVENT
END:VCALENDAR
