BEGIN:VCALENDAR
VERSION:2.0
PRODID:-//www.ketchikanarts.org//NONSGML kigkonsult.se iCalcreator 2.30.10/
 /
CALSCALE:GREGORIAN
METHOD:PUBLISH
UID:0bd344df-efc2-4b67-bb29-042e625e0f90
X-WR-CALDESC:The Wearable Art Show is a runway extravaganza art show featur
 ing one-of-a-kind\, handcrafted artwork designed to be worn by the human b
 ody. Artists of all ages using any media create functional - and not so fu
 nctional - pieces of WEARABLE ART for the runway. There is something for t
 he whole community!  Doors at 7 performance at 8\n\nMust be 21+ or accompa
 nied by a parent or guardian.
X-WR-RELCALID:31678a0fdd03ad899fc061f6e2d9033a
X-WR-TIMEZONE:America/Anchorage
BEGIN:VTIMEZONE
TZID:America/Anchorage
BEGIN:STANDARD
TZNAME:AKST
DTSTART:20221106T020000
TZOFFSETFROM:-0800
TZOFFSETTO:-0900
RDATE:20231105T020000
END:STANDARD
BEGIN:DAYLIGHT
TZNAME:AKDT
DTSTART:20220313T020000
TZOFFSETFROM:-0900
TZOFFSETTO:-0800
RDATE:20230312T020000
RDATE:20240310T020000
END:DAYLIGHT
END:VTIMEZONE
BEGIN:VEVENT
UID:341ee1ec-bce8-40a2-9015-c6e6b5c1a76b
DTSTAMP:20260426T042804Z
DESCRIPTION:The Wearable Art Show is a runway extravaganza art show featuri
 ng one-of-a-kind\, handcrafted artwork designed to be worn by the human bo
 dy. Artists of all ages using any media create functional - and not so fun
 ctional - pieces of WEARABLE ART for the runway. There is something for th
 e whole community!  Doors at 7 performance at 8\n\nMust be 21+ or accompan
 ied by a parent or guardian.
DTSTART;TZID=America/Anchorage:20230204T190000
DTEND;TZID=America/Anchorage:20230204T220000
LOCATION:Ted Ferry Civic Center
SUMMARY:The 37th Annual Wearable Art Show!
END:VEVENT
END:VCALENDAR
