BEGIN:VCALENDAR
VERSION:2.0
PRODID:-//www.ketchikanarts.org//NONSGML kigkonsult.se iCalcreator 2.30.10/
 /
CALSCALE:GREGORIAN
METHOD:PUBLISH
UID:93229103-9c74-44d3-8c5f-02a2c713c0ad
X-WR-CALDESC:Southeast Alaska Discovery Center will be premiering their new
  theme video showcasing Alaska's National Forests - where nature\, people\
 , and tradition come together. Watch it live in the Elizabeth Peratrovich 
 Theater at the Southeast Alaska Discovery Center at 10 a.m. on February 1\
 , 2023.
X-WR-RELCALID:3c0f0d2d1a320257c91828ceaed3a8bc
X-WR-TIMEZONE:America/Anchorage
BEGIN:VTIMEZONE
TZID:America/Anchorage
BEGIN:STANDARD
TZNAME:AKST
DTSTART:20221106T020000
TZOFFSETFROM:-0800
TZOFFSETTO:-0900
RDATE:20231105T020000
END:STANDARD
BEGIN:DAYLIGHT
TZNAME:AKDT
DTSTART:20220313T020000
TZOFFSETFROM:-0900
TZOFFSETTO:-0800
RDATE:20230312T020000
RDATE:20240310T020000
END:DAYLIGHT
END:VTIMEZONE
BEGIN:VEVENT
UID:57d6c758-378c-466f-9389-441afeaed0a8
DTSTAMP:20260426T042425Z
DESCRIPTION:Southeast Alaska Discovery Center will be premiering their new 
 theme video showcasing Alaska's National Forests - where nature\, people\,
  and tradition come together. Watch it live in the Elizabeth Peratrovich T
 heater at the Southeast Alaska Discovery Center at 10 a.m. on February 1\,
  2023.
DTSTART;TZID=America/Anchorage:20230201T100000
DTEND;TZID=America/Anchorage:20230201T110000
LOCATION:Southeast Alaska Discovery Center
SUMMARY:Theme Video Premiere!
END:VEVENT
END:VCALENDAR
