BEGIN:VCALENDAR
VERSION:2.0
PRODID:-//www.ketchikanarts.org//NONSGML kigkonsult.se iCalcreator 2.30.10/
 /
CALSCALE:GREGORIAN
METHOD:PUBLISH
UID:f801c324-680c-4f45-8769-827f2f83163c
X-WR-CALDESC:SHI is accepting applications for the first Juried Film Festiv
 al\, which is held during Celebration at the Goldtown Theatre in Juneau\, 
 AK. The event is open to Sealaska shareholders and their descendants and A
 laska Natives and Native Americans who are members of an Alaska Native Cla
 ims Settlement Act corporation or Indian tribe.
X-WR-RELCALID:f279d1caef0725bd76d22235c1b0d21c
X-WR-TIMEZONE:America/Anchorage
BEGIN:VTIMEZONE
TZID:America/Anchorage
BEGIN:STANDARD
TZNAME:AKST
DTSTART:20231105T020000
TZOFFSETFROM:-0800
TZOFFSETTO:-0900
RDATE:20241103T020000
END:STANDARD
BEGIN:DAYLIGHT
TZNAME:AKDT
DTSTART:20230312T020000
TZOFFSETFROM:-0900
TZOFFSETTO:-0800
RDATE:20240310T020000
RDATE:20250309T020000
END:DAYLIGHT
END:VTIMEZONE
BEGIN:VEVENT
UID:9bf94dbb-56b8-4f11-a56a-8ac39755805c
DTSTAMP:20260421T215259Z
DESCRIPTION:SHI is accepting applications for the first Juried Film Festiva
 l\, which is held during Celebration at the Goldtown Theatre in Juneau\, A
 K. The event is open to Sealaska shareholders and their descendants and Al
 aska Natives and Native Americans who are members of an Alaska Native Clai
 ms Settlement Act corporation or Indian tribe.
DTSTART;TZID=America/Anchorage:20240301T170000
DTEND;TZID=America/Anchorage:20240301T170000
LOCATION:Juneau\, AK
SUMMARY:Call to Artists - Juried Film Festival
END:VEVENT
END:VCALENDAR
