BEGIN:VCALENDAR
VERSION:2.0
PRODID:-//www.ketchikanarts.org//NONSGML kigkonsult.se iCalcreator 2.30.10/
 /
CALSCALE:GREGORIAN
METHOD:PUBLISH
UID:a1ca02c2-625a-4152-99c1-7ee927e6c233
X-WR-CALDESC:Join us for our monthly meeting (regular date subject to chang
 e due to the Christmas Holiday and annual Quilt Show).
X-WR-RELCALID:e2178421b016986b5ff1dd88cb15c964
X-WR-TIMEZONE:America/Anchorage
BEGIN:VTIMEZONE
TZID:America/Anchorage
BEGIN:STANDARD
TZNAME:AKST
DTSTART:20231105T020000
TZOFFSETFROM:-0800
TZOFFSETTO:-0900
RDATE:20241103T020000
END:STANDARD
BEGIN:DAYLIGHT
TZNAME:AKDT
DTSTART:20230312T020000
TZOFFSETFROM:-0900
TZOFFSETTO:-0800
RDATE:20240310T020000
RDATE:20250309T020000
END:DAYLIGHT
END:VTIMEZONE
BEGIN:VEVENT
UID:d27752ef-5152-4cfc-ad5b-67ed6d4debe4
DTSTAMP:20260421T220102Z
DESCRIPTION:Join us for our monthly meeting (regular date subject to change
  due to the Christmas Holiday and annual Quilt Show).
DTSTART;TZID=America/Anchorage:20240227T183000
DTEND;TZID=America/Anchorage:20240227T200000
LOCATION:Holy Name Parish Hall
SUMMARY:Rainy Day Quilt Guild Meeting
END:VEVENT
END:VCALENDAR
