BEGIN:VCALENDAR
VERSION:2.0
PRODID:-//www.ketchikanarts.org//NONSGML kigkonsult.se iCalcreator 2.30.10/
 /
CALSCALE:GREGORIAN
METHOD:PUBLISH
UID:20e7f9cd-a06d-4c98-9c84-e61f609109e8
X-WR-CALDESC:Be sure to catch the final Show for the K-highlites Seniors!!!
  Tickets are $8 per person\, youth under 5 are free!!!\n\nCall or text for
  tickets 907-821-0488
X-WR-RELCALID:52a5bc57cd158c4573b07cfe7018a471
X-WR-TIMEZONE:America/Anchorage
BEGIN:VTIMEZONE
TZID:America/Anchorage
BEGIN:STANDARD
TZNAME:AKST
DTSTART:20231105T020000
TZOFFSETFROM:-0800
TZOFFSETTO:-0900
RDATE:20241103T020000
END:STANDARD
BEGIN:DAYLIGHT
TZNAME:AKDT
DTSTART:20230312T020000
TZOFFSETFROM:-0900
TZOFFSETTO:-0800
RDATE:20240310T020000
RDATE:20250309T020000
END:DAYLIGHT
END:VTIMEZONE
BEGIN:VEVENT
UID:a1797118-74d2-4671-86fd-c8db2b984a79
DTSTAMP:20260421T215438Z
DESCRIPTION:Be sure to catch the final Show for the K-highlites Seniors!!! 
 Tickets are $8 per person\, youth under 5 are free!!!\n\nCall or text for 
 tickets 907-821-0488
DTSTART;TZID=America/Anchorage:20240225T150000
DTEND;TZID=America/Anchorage:20240225T163000
LOCATION:Kayhi Main Gym
SUMMARY:K-highlites Dance!
END:VEVENT
END:VCALENDAR
