BEGIN:VCALENDAR
VERSION:2.0
PRODID:-//www.ketchikanarts.org//NONSGML kigkonsult.se iCalcreator 2.30.10/
 /
CALSCALE:GREGORIAN
METHOD:PUBLISH
UID:c9a34f37-084e-429d-a5c6-006e91a64576
X-WR-CALDESC:Get your singing on at Open Mic Night every week.\nNo cover ch
 arge.
X-WR-RELCALID:1b7301b7988e50da323774e424f128db
X-WR-TIMEZONE:America/Anchorage
BEGIN:VTIMEZONE
TZID:America/Anchorage
BEGIN:STANDARD
TZNAME:AKST
DTSTART:20231105T020000
TZOFFSETFROM:-0800
TZOFFSETTO:-0900
RDATE:20241103T020000
END:STANDARD
BEGIN:DAYLIGHT
TZNAME:AKDT
DTSTART:20230312T020000
TZOFFSETFROM:-0900
TZOFFSETTO:-0800
RDATE:20240310T020000
RDATE:20250309T020000
END:DAYLIGHT
END:VTIMEZONE
BEGIN:VEVENT
UID:972a9e01-4685-4da7-b336-d8ed38158f37
DTSTAMP:20260421T215345Z
DESCRIPTION:Get your singing on at Open Mic Night every week.\nNo cover cha
 rge.
DTSTART;TZID=America/Anchorage:20240225T180000
DTEND;TZID=America/Anchorage:20240225T210000
LOCATION:
SUMMARY:Open Mic Night
END:VEVENT
END:VCALENDAR
