BEGIN:VCALENDAR
VERSION:2.0
PRODID:-//www.ketchikanarts.org//NONSGML kigkonsult.se iCalcreator 2.30.10/
 /
CALSCALE:GREGORIAN
METHOD:PUBLISH
UID:abd65b33-ec94-402b-b71b-de2dc7361c7a
X-WR-CALDESC:The Wearable Art Show exhibit! Get up close and personal with 
 selected Wearable Art pieces from 'The Art of Artifice'\, the 38th Annual 
 Wearable Art Show!!!!!!!!!!!!!!!!!!!!!!!!!!!!!!!!!!!!!!!!!!!!!!!!!!!!!!!!!
 !!!!!!!!!!!!!!!!!!!!!!!!!!!!!!!!!!!!
X-WR-RELCALID:47682cf41c216ea7776947d8f34f672b
X-WR-TIMEZONE:America/Anchorage
BEGIN:VTIMEZONE
TZID:America/Anchorage
BEGIN:STANDARD
TZNAME:AKST
DTSTART:20231105T020000
TZOFFSETFROM:-0800
TZOFFSETTO:-0900
RDATE:20241103T020000
END:STANDARD
BEGIN:DAYLIGHT
TZNAME:AKDT
DTSTART:20230312T020000
TZOFFSETFROM:-0900
TZOFFSETTO:-0800
RDATE:20240310T020000
RDATE:20250309T020000
END:DAYLIGHT
END:VTIMEZONE
BEGIN:VEVENT
UID:07efe374-551c-4a22-9168-53522d18943e
DTSTAMP:20260421T201138Z
DESCRIPTION:The Wearable Art Show exhibit! Get up close and personal with s
 elected Wearable Art pieces from 'The Art of Artifice'\, the 38th Annual W
 earable Art Show!!!!!!!!!!!!!!!!!!!!!!!!!!!!!!!!!!!!!!!!!!!!!!!!!!!!!!!!!!
 !!!!!!!!!!!!!!!!!!!!!!!!!!!!!!!!!!!
DTSTART;TZID=America/Anchorage:20240212T100000
DTEND;TZID=America/Anchorage:20240223T170000
LOCATION:330 Main Street Gallery
SUMMARY:Wearable Art Show Exhibit
END:VEVENT
END:VCALENDAR
