BEGIN:VCALENDAR
VERSION:2.0
PRODID:-//www.ketchikanarts.org//NONSGML kigkonsult.se iCalcreator 2.30.10/
 /
CALSCALE:GREGORIAN
METHOD:PUBLISH
UID:be246c5a-a7d5-4080-a7fb-9c8422e44521
X-WR-CALDESC:
X-WR-RELCALID:67d79e806d75b7338ff222c06a367b15
X-WR-TIMEZONE:America/Anchorage
BEGIN:VTIMEZONE
TZID:America/Anchorage
BEGIN:STANDARD
TZNAME:AKST
DTSTART:20231105T020000
TZOFFSETFROM:-0800
TZOFFSETTO:-0900
RDATE:20241103T020000
END:STANDARD
BEGIN:DAYLIGHT
TZNAME:AKDT
DTSTART:20230312T020000
TZOFFSETFROM:-0900
TZOFFSETTO:-0800
RDATE:20240310T020000
RDATE:20250309T020000
END:DAYLIGHT
END:VTIMEZONE
BEGIN:VEVENT
UID:815259e5-1331-48fa-b60e-d3e989d51031
DTSTAMP:20260421T201625Z
DESCRIPTION:
DTSTART;TZID=America/Anchorage:20240223T170000
DTEND;TZID=America/Anchorage:20240223T170000
LOCATION:Main Street Gallery\, 330 Main Street\, Ketchikan\, AK 99901 US
SUMMARY:Deadline to submit work for 'Burning the Midnight Oil' at the Main 
 Street Gallery
END:VEVENT
END:VCALENDAR
