BEGIN:VCALENDAR
VERSION:2.0
PRODID:-//www.ketchikanarts.org//NONSGML kigkonsult.se iCalcreator 2.30.10/
 /
CALSCALE:GREGORIAN
METHOD:PUBLISH
UID:edfb0728-a0ff-4331-8afb-6b45bc500f37
X-WR-CALDESC:
X-WR-RELCALID:1d32c0fba5fd0955fbee92508e894909
X-WR-TIMEZONE:America/Anchorage
BEGIN:VTIMEZONE
TZID:America/Anchorage
BEGIN:STANDARD
TZNAME:AKST
DTSTART:20231105T020000
TZOFFSETFROM:-0800
TZOFFSETTO:-0900
RDATE:20241103T020000
END:STANDARD
BEGIN:DAYLIGHT
TZNAME:AKDT
DTSTART:20230312T020000
TZOFFSETFROM:-0900
TZOFFSETTO:-0800
RDATE:20240310T020000
RDATE:20250309T020000
END:DAYLIGHT
END:VTIMEZONE
BEGIN:VEVENT
UID:5f990430-aefe-4695-9944-d02e65a0fb11
DTSTAMP:20260421T184824Z
DESCRIPTION:
DTSTART;TZID=America/Anchorage:20240216T020000
DTEND;TZID=America/Anchorage:20240216T020001
LOCATION:
SUMMARY:MMIWG2S Alaska Working Group Logo - Artist Call
END:VEVENT
END:VCALENDAR
