BEGIN:VCALENDAR
VERSION:2.0
PRODID:-//www.ketchikanarts.org//NONSGML kigkonsult.se iCalcreator 2.30.10/
 /
CALSCALE:GREGORIAN
METHOD:PUBLISH
UID:96ecb19a-b6b9-4b67-adfb-b6b84ef95e9e
X-WR-CALDESC:The Evening of Dance performance showcases Ketchikan Theatre B
 allet's Junior & Senior Company dancers & plus the advanced level classes.
X-WR-RELCALID:e15faef2cb12cb4b383ad1f12c686459
X-WR-TIMEZONE:America/Anchorage
BEGIN:VTIMEZONE
TZID:America/Anchorage
BEGIN:STANDARD
TZNAME:AKST
DTSTART:20231105T020000
TZOFFSETFROM:-0800
TZOFFSETTO:-0900
RDATE:20241103T020000
END:STANDARD
BEGIN:DAYLIGHT
TZNAME:AKDT
DTSTART:20230312T020000
TZOFFSETFROM:-0900
TZOFFSETTO:-0800
RDATE:20240310T020000
RDATE:20250309T020000
END:DAYLIGHT
END:VTIMEZONE
BEGIN:VEVENT
UID:684364d7-70f7-402d-b6a9-37c03ae3c156
DTSTAMP:20260421T185101Z
DESCRIPTION:The Evening of Dance performance showcases Ketchikan Theatre Ba
 llet's Junior & Senior Company dancers & plus the advanced level classes.
DTSTART;TZID=America/Anchorage:20240216T193000
DTEND;TZID=America/Anchorage:20240216T210000
LOCATION:Kayhi Auditorium
SUMMARY:Ketchikan Theatre Ballet - Evening of Dance
END:VEVENT
END:VCALENDAR
