BEGIN:VCALENDAR
VERSION:2.0
PRODID:-//www.ketchikanarts.org//NONSGML kigkonsult.se iCalcreator 2.30.10/
 /
CALSCALE:GREGORIAN
METHOD:PUBLISH
UID:ace72b82-95ed-42ac-a53a-081d1d0801a5
X-WR-CALDESC:The U.S. Senate approved a resolution in 2023 that designates 
 Feb. 16\, 2023\, as National Elizabeth Peratrovich Day in honor of the Tli
 ngit civil rights leader.
X-WR-RELCALID:e6bf3eba486d4e37c0ea2447cf6790bf
X-WR-TIMEZONE:America/Anchorage
BEGIN:VTIMEZONE
TZID:America/Anchorage
BEGIN:STANDARD
TZNAME:AKST
DTSTART:20231105T020000
TZOFFSETFROM:-0800
TZOFFSETTO:-0900
RDATE:20241103T020000
END:STANDARD
BEGIN:DAYLIGHT
TZNAME:AKDT
DTSTART:20230312T020000
TZOFFSETFROM:-0900
TZOFFSETTO:-0800
RDATE:20240310T020000
RDATE:20250309T020000
END:DAYLIGHT
END:VTIMEZONE
BEGIN:VEVENT
UID:6e97aa88-b731-41bc-95ae-761c4764475b
DTSTAMP:20260421T184707Z
DESCRIPTION:The U.S. Senate approved a resolution in 2023 that designates F
 eb. 16\, 2023\, as National Elizabeth Peratrovich Day in honor of the Tlin
 git civil rights leader.
DTSTART;TZID=America/Anchorage:20240216T020000
DTEND;TZID=America/Anchorage:20240216T020001
LOCATION:
SUMMARY:Elizabeth Peratrovich Day!
END:VEVENT
END:VCALENDAR
