BEGIN:VCALENDAR
VERSION:2.0
PRODID:-//www.ketchikanarts.org//NONSGML kigkonsult.se iCalcreator 2.30.10/
 /
CALSCALE:GREGORIAN
METHOD:PUBLISH
UID:dc8a7226-6cb6-4d91-805d-d9c1014652c7
X-WR-CALDESC:
X-WR-RELCALID:999f7f2003162185addc8f7b5249e495
X-WR-TIMEZONE:America/Anchorage
BEGIN:VTIMEZONE
TZID:America/Anchorage
BEGIN:STANDARD
TZNAME:AKST
DTSTART:20231105T020000
TZOFFSETFROM:-0800
TZOFFSETTO:-0900
RDATE:20241103T020000
END:STANDARD
BEGIN:DAYLIGHT
TZNAME:AKDT
DTSTART:20230312T020000
TZOFFSETFROM:-0900
TZOFFSETTO:-0800
RDATE:20240310T020000
RDATE:20250309T020000
END:DAYLIGHT
END:VTIMEZONE
BEGIN:VEVENT
UID:9d9d4772-be3a-4339-a314-4d9b7dbce358
DTSTAMP:20260421T184712Z
DESCRIPTION:
DTSTART;TZID=America/Anchorage:20240215T173000
DTEND;TZID=America/Anchorage:20240215T190000
LOCATION:Just Dandy Apothecary
SUMMARY:Torah Zamora - La Gwelga Lak Adaawx Sessions
END:VEVENT
END:VCALENDAR
