BEGIN:VCALENDAR
VERSION:2.0
PRODID:-//www.ketchikanarts.org//NONSGML kigkonsult.se iCalcreator 2.30.10/
 /
CALSCALE:GREGORIAN
METHOD:PUBLISH
UID:5c62dc30-5608-4f4c-a394-7a7fd2062966
X-WR-CALDESC:The Ketchikan Theatre Ballet Evening of Dance features works c
 horeographed by all the KTB Instructors!
X-WR-RELCALID:7cb1ceedffb9abaeab8d461fd559b382
X-WR-TIMEZONE:America/Anchorage
BEGIN:VTIMEZONE
TZID:America/Anchorage
BEGIN:STANDARD
TZNAME:AKST
DTSTART:20231105T020000
TZOFFSETFROM:-0800
TZOFFSETTO:-0900
RDATE:20241103T020000
END:STANDARD
BEGIN:DAYLIGHT
TZNAME:AKDT
DTSTART:20230312T020000
TZOFFSETFROM:-0900
TZOFFSETTO:-0800
RDATE:20240310T020000
RDATE:20250309T020000
END:DAYLIGHT
END:VTIMEZONE
BEGIN:VEVENT
UID:1b46b854-d238-4d87-8749-804ab9402dfe
DTSTAMP:20260421T185039Z
DESCRIPTION:The Ketchikan Theatre Ballet Evening of Dance features works ch
 oreographed by all the KTB Instructors!
DTSTART;TZID=America/Anchorage:20240215T193000
DTEND;TZID=America/Anchorage:20240215T210000
LOCATION:Kayhi Auditorium
SUMMARY:Ketchikan Theatre Ballet - Evening of Dance
END:VEVENT
END:VCALENDAR
