BEGIN:VCALENDAR
VERSION:2.0
PRODID:-//www.ketchikanarts.org//NONSGML kigkonsult.se iCalcreator 2.30.10/
 /
CALSCALE:GREGORIAN
METHOD:PUBLISH
UID:d44cc676-b9bc-48e2-b702-3e0b5ba8b379
X-WR-CALDESC:Live Music With Diane Slagle\; Pay What You Like!
X-WR-RELCALID:f2ad4b524976ee9e1ef5438e81015b56
X-WR-TIMEZONE:America/Anchorage
BEGIN:VTIMEZONE
TZID:America/Anchorage
BEGIN:STANDARD
TZNAME:AKST
DTSTART:20231105T020000
TZOFFSETFROM:-0800
TZOFFSETTO:-0900
RDATE:20241103T020000
END:STANDARD
BEGIN:DAYLIGHT
TZNAME:AKDT
DTSTART:20230312T020000
TZOFFSETFROM:-0900
TZOFFSETTO:-0800
RDATE:20240310T020000
RDATE:20250309T020000
END:DAYLIGHT
END:VTIMEZONE
BEGIN:VEVENT
UID:414f54ad-d550-40fd-9e2a-1f84df85069a
DTSTAMP:20260421T185025Z
DESCRIPTION:Live Music With Diane Slagle\; Pay What You Like!
DTSTART;TZID=America/Anchorage:20240214T190000
DTEND;TZID=America/Anchorage:20240214T203000
LOCATION:330 Main Street Art Gallery\, Ketchikan\, AK 99901 US
SUMMARY:Diane Slagle 'You Must Believe In Spring'
END:VEVENT
END:VCALENDAR
