BEGIN:VCALENDAR
VERSION:2.0
PRODID:-//www.ketchikanarts.org//NONSGML kigkonsult.se iCalcreator 2.30.10/
 /
CALSCALE:GREGORIAN
METHOD:PUBLISH
UID:e17a108b-d859-4c81-831c-c9691b16c80c
X-WR-CALDESC:
X-WR-RELCALID:d6eb9b48d1f6977df26c64728b62a846
X-WR-TIMEZONE:America/Anchorage
BEGIN:VTIMEZONE
TZID:America/Anchorage
BEGIN:STANDARD
TZNAME:AKST
DTSTART:20231105T020000
TZOFFSETFROM:-0800
TZOFFSETTO:-0900
RDATE:20241103T020000
END:STANDARD
BEGIN:DAYLIGHT
TZNAME:AKDT
DTSTART:20230312T020000
TZOFFSETFROM:-0900
TZOFFSETTO:-0800
RDATE:20240310T020000
RDATE:20250309T020000
END:DAYLIGHT
END:VTIMEZONE
BEGIN:VEVENT
UID:6cb5ee35-9c82-4756-9a99-0c61be79c332
DTSTAMP:20260421T185153Z
DESCRIPTION:
DTSTART;TZID=America/Anchorage:20240213T190000
DTEND;TZID=America/Anchorage:20240213T210000
LOCATION:Creek Street Cabaret
SUMMARY:Story SLAM - 'Bad Company'
END:VEVENT
END:VCALENDAR
