BEGIN:VCALENDAR
VERSION:2.0
PRODID:-//www.ketchikanarts.org//NONSGML kigkonsult.se iCalcreator 2.30.10/
 /
CALSCALE:GREGORIAN
METHOD:PUBLISH
UID:f01ee793-6fc0-412d-ba22-6eb687cab54c
X-WR-CALDESC:Keep your feet young - dance them in squares!!!!
X-WR-RELCALID:5f7922144d870228604420819277c2ad
X-WR-TIMEZONE:America/Anchorage
BEGIN:VTIMEZONE
TZID:America/Anchorage
BEGIN:STANDARD
TZNAME:AKST
DTSTART:20231105T020000
TZOFFSETFROM:-0800
TZOFFSETTO:-0900
RDATE:20241103T020000
END:STANDARD
BEGIN:DAYLIGHT
TZNAME:AKDT
DTSTART:20230312T020000
TZOFFSETFROM:-0900
TZOFFSETTO:-0800
RDATE:20240310T020000
RDATE:20250309T020000
END:DAYLIGHT
END:VTIMEZONE
BEGIN:VEVENT
UID:1dc42c5b-acff-448c-8418-12eaa2de5e4b
DTSTAMP:20260421T171641Z
DESCRIPTION:Keep your feet young - dance them in squares!!!!
DTSTART;TZID=America/Anchorage:20240209T190000
DTEND;TZID=America/Anchorage:20240209T210000
LOCATION:Creek Street Cabaret
SUMMARY:Square Dance!!!
END:VEVENT
END:VCALENDAR
