BEGIN:VCALENDAR
VERSION:2.0
PRODID:-//www.ketchikanarts.org//NONSGML kigkonsult.se iCalcreator 2.30.10/
 /
CALSCALE:GREGORIAN
METHOD:PUBLISH
UID:47b7287f-10a3-4eff-a4d9-8c16d3380a40
X-WR-CALDESC:Hi Friends\, \nJoin us for a night filled with laughter\, cama
 raderie\, and a lot of fun as we celebrate another fantastic year at the K
 VB Annual Banquet. This time\, we're bringing the iconic FRIENDS theme to 
 the party\, and you're all invited to be part of our unforgettable night!
 \n\nAGENDA:\n•	6 PM: Cocktail hour - Catch up with old friends and make new
  ones!\n•	7 PM: FRIENDSgiving Dinner - A feast to rival Monica's! (Don't wo
 rry\, no one's getting a turkey on their head!)\n•	7 PM - 9 PM: Industry Aw
 ards and Trivia - Recognizing excellence and achievements in our field\, w
 hile mixing in trivia about FRIENDS and Ketchikan tourism.\n\nDRESS CODE:
 \nChannel your inner Ross\, Rachel\, Chandler\, Monica\, Joey\, Phoebe or 
 other friends! Whether it's Central Perk chic or a Smelly Cat-inspired ens
 emble\, come dressed as your favorite Friends Character. We will be giving
  KVB marketing comps for the best dressed!\n\nAWARDS & PRIZES:\nGet ready 
 to be honored and appreciated! In addition to celebrating our fantastic ye
 ar\, we'll be recognizing outstanding achievements in our industry. Awards
  in various categories and exciting prizes await the winners. Will you be 
 the Monica of organization\, the Chandler of humor\, or the industry's own
  Ross of expertise? Only one way to find out!\n\nRSVP:\nGet your tickets n
 ow and get ready for a night of unforgettable moments\, laughter\, and may
 be a few surprises. Don't miss out - it's going to be 'The One with the Be
 st Annual Banquet & Awards Ever!'\n\nSee you there!\n
X-WR-RELCALID:3d14ee77db7f095c781d3a2791603ae6
X-WR-TIMEZONE:America/Anchorage
BEGIN:VTIMEZONE
TZID:America/Anchorage
BEGIN:STANDARD
TZNAME:AKST
DTSTART:20231105T020000
TZOFFSETFROM:-0800
TZOFFSETTO:-0900
RDATE:20241103T020000
END:STANDARD
BEGIN:DAYLIGHT
TZNAME:AKDT
DTSTART:20230312T020000
TZOFFSETFROM:-0900
TZOFFSETTO:-0800
RDATE:20240310T020000
RDATE:20250309T020000
END:DAYLIGHT
END:VTIMEZONE
BEGIN:VEVENT
UID:96f8c794-886d-4fe4-8e7b-dcd705519e56
DTSTAMP:20260421T153907Z
DESCRIPTION:Hi Friends\, \nJoin us for a night filled with laughter\, camar
 aderie\, and a lot of fun as we celebrate another fantastic year at the KV
 B Annual Banquet. This time\, we're bringing the iconic FRIENDS theme to t
 he party\, and you're all invited to be part of our unforgettable night!\n
 \nAGENDA:\n•	6 PM: Cocktail hour - Catch up with old friends and make new o
 nes!\n•	7 PM: FRIENDSgiving Dinner - A feast to rival Monica's! (Don't worr
 y\, no one's getting a turkey on their head!)\n•	7 PM - 9 PM: Industry Awar
 ds and Trivia - Recognizing excellence and achievements in our field\, whi
 le mixing in trivia about FRIENDS and Ketchikan tourism.\n\nDRESS CODE:\nC
 hannel your inner Ross\, Rachel\, Chandler\, Monica\, Joey\, Phoebe or oth
 er friends! Whether it's Central Perk chic or a Smelly Cat-inspired ensemb
 le\, come dressed as your favorite Friends Character. We will be giving KV
 B marketing comps for the best dressed!\n\nAWARDS & PRIZES:\nGet ready to 
 be honored and appreciated! In addition to celebrating our fantastic year\
 , we'll be recognizing outstanding achievements in our industry. Awards in
  various categories and exciting prizes await the winners. Will you be the
  Monica of organization\, the Chandler of humor\, or the industry's own Ro
 ss of expertise? Only one way to find out!\n\nRSVP:\nGet your tickets now 
 and get ready for a night of unforgettable moments\, laughter\, and maybe 
 a few surprises. Don't miss out - it's going to be 'The One with the Best 
 Annual Banquet & Awards Ever!'\n\nSee you there!\n
DTSTART;TZID=America/Anchorage:20240203T180000
DTEND;TZID=America/Anchorage:20240203T210000
LOCATION:
SUMMARY:The One Where We Made New FRIENDS
END:VEVENT
END:VCALENDAR
