BEGIN:VCALENDAR
VERSION:2.0
PRODID:-//www.ketchikanarts.org//NONSGML kigkonsult.se iCalcreator 2.30.10/
 /
CALSCALE:GREGORIAN
METHOD:PUBLISH
UID:d9ffefc3-c07a-48c2-8136-2a0d106fe70a
X-WR-CALDESC:38th Annual Wearable Art Show. Thursday\, February 1st - Satur
 day\, February 3rd 2024\nTickets available for all shows! \n\nThe final pe
 rformance!!!
X-WR-RELCALID:3551bc9aa26e6b4f7527d94570680f76
X-WR-TIMEZONE:America/Anchorage
BEGIN:VTIMEZONE
TZID:America/Anchorage
BEGIN:STANDARD
TZNAME:AKST
DTSTART:20231105T020000
TZOFFSETFROM:-0800
TZOFFSETTO:-0900
RDATE:20241103T020000
END:STANDARD
BEGIN:DAYLIGHT
TZNAME:AKDT
DTSTART:20230312T020000
TZOFFSETFROM:-0900
TZOFFSETTO:-0800
RDATE:20240310T020000
RDATE:20250309T020000
END:DAYLIGHT
END:VTIMEZONE
BEGIN:VEVENT
UID:a21d6bd3-3772-4144-b471-b8322be0d5e8
DTSTAMP:20260421T153443Z
DESCRIPTION:38th Annual Wearable Art Show. Thursday\, February 1st - Saturd
 ay\, February 3rd 2024\nTickets available for all shows! \n\nThe final per
 formance!!!
DTSTART;TZID=America/Anchorage:20240203T200000
DTEND;TZID=America/Anchorage:20240203T223000
LOCATION:Ted Ferry Civic Center
SUMMARY:'The Art of Artifice' 38th Annual Wearable Art Show!!!!
END:VEVENT
END:VCALENDAR
