BEGIN:VCALENDAR
VERSION:2.0
PRODID:-//www.ketchikanarts.org//NONSGML kigkonsult.se iCalcreator 2.30.10/
 /
CALSCALE:GREGORIAN
METHOD:PUBLISH
UID:19b28080-dc0c-4d9d-98f6-f6cdeaf79d7d
X-WR-CALDESC:38th Annual Wearable Art Show. Thursday\, February 1st - Satur
 day\, February 3rd 2024\nTickets available for all shows!!!\n\nSaturday af
 ternoon performance features Mimosa Matinee!!!
X-WR-RELCALID:d48bdf61a321ac3d6c0216a482668cf0
X-WR-TIMEZONE:America/Anchorage
BEGIN:VTIMEZONE
TZID:America/Anchorage
BEGIN:STANDARD
TZNAME:AKST
DTSTART:20231105T020000
TZOFFSETFROM:-0800
TZOFFSETTO:-0900
RDATE:20241103T020000
END:STANDARD
BEGIN:DAYLIGHT
TZNAME:AKDT
DTSTART:20230312T020000
TZOFFSETFROM:-0900
TZOFFSETTO:-0800
RDATE:20240310T020000
RDATE:20250309T020000
END:DAYLIGHT
END:VTIMEZONE
BEGIN:VEVENT
UID:94040d66-9b63-4de9-8ae8-185f271f3a74
DTSTAMP:20260421T153525Z
DESCRIPTION:38th Annual Wearable Art Show. Thursday\, February 1st - Saturd
 ay\, February 3rd 2024\nTickets available for all shows!!!\n\nSaturday aft
 ernoon performance features Mimosa Matinee!!!
DTSTART;TZID=America/Anchorage:20240203T140000
DTEND;TZID=America/Anchorage:20240203T153000
LOCATION:Ted Ferry Civic Center
SUMMARY:'The Art of Artifice' 38th Annual Wearable Art Show!!!!
END:VEVENT
END:VCALENDAR
