BEGIN:VCALENDAR
VERSION:2.0
PRODID:-//www.ketchikanarts.org//NONSGML kigkonsult.se iCalcreator 2.30.10/
 /
CALSCALE:GREGORIAN
METHOD:PUBLISH
UID:c9058a9d-92ae-40a4-98cf-beb82e59bcd4
X-WR-CALDESC:What an awesome line up!!!
X-WR-RELCALID:f3fce61d7a3752495ea24862a6fcacf2
X-WR-TIMEZONE:America/Anchorage
BEGIN:VTIMEZONE
TZID:America/Anchorage
BEGIN:STANDARD
TZNAME:AKST
DTSTART:20231105T020000
TZOFFSETFROM:-0800
TZOFFSETTO:-0900
RDATE:20241103T020000
END:STANDARD
BEGIN:DAYLIGHT
TZNAME:AKDT
DTSTART:20230312T020000
TZOFFSETFROM:-0900
TZOFFSETTO:-0800
RDATE:20240310T020000
RDATE:20250309T020000
END:DAYLIGHT
END:VTIMEZONE
BEGIN:VEVENT
UID:2fa58fc6-af04-4941-b019-c16bcb223774
DTSTAMP:20260421T112656Z
DESCRIPTION:What an awesome line up!!!
DTSTART;TZID=America/Anchorage:20240113T190000
DTEND;TZID=America/Anchorage:20240113T203000
LOCATION:Saxman Tribal House
SUMMARY:The Monthly Grind
END:VEVENT
END:VCALENDAR
