BEGIN:VCALENDAR
VERSION:2.0
PRODID:-//www.ketchikanarts.org//NONSGML kigkonsult.se iCalcreator 2.30.10/
 /
CALSCALE:GREGORIAN
METHOD:PUBLISH
UID:52df4ea1-6081-4af3-b2d2-d3ceb79ca4ac
X-WR-CALDESC:Artist Nancy Tietje will teach students to bead intricate and 
 beautiful enclosures for pendants. Limited to 15 students - sign up quick!
 \n\n$35 ($45 week of class)
X-WR-RELCALID:a88c4fa050cd59e294d74cf91f8ebb05
X-WR-TIMEZONE:America/Anchorage
BEGIN:VTIMEZONE
TZID:America/Anchorage
BEGIN:STANDARD
TZNAME:AKST
DTSTART:20231105T020000
TZOFFSETFROM:-0800
TZOFFSETTO:-0900
RDATE:20241103T020000
END:STANDARD
BEGIN:DAYLIGHT
TZNAME:AKDT
DTSTART:20230312T020000
TZOFFSETFROM:-0900
TZOFFSETTO:-0800
RDATE:20240310T020000
RDATE:20250309T020000
END:DAYLIGHT
END:VTIMEZONE
BEGIN:VEVENT
UID:4ca43f39-f5dd-4bc6-9c26-362ed7c6ee50
DTSTAMP:20260421T113001Z
DESCRIPTION:Artist Nancy Tietje will teach students to bead intricate and b
 eautiful enclosures for pendants. Limited to 15 students - sign up quick!
 \n\n$35 ($45 week of class)
DTSTART;TZID=America/Anchorage:20240112T190000
DTEND;TZID=America/Anchorage:20240112T210000
LOCATION:Main Street Gallery
SUMMARY:Arts Uncorked - Beaded Pendants - Nancy Tietje
END:VEVENT
END:VCALENDAR
