BEGIN:VCALENDAR
VERSION:2.0
PRODID:-//www.ketchikanarts.org//NONSGML kigkonsult.se iCalcreator 2.30.10/
 /
CALSCALE:GREGORIAN
METHOD:PUBLISH
UID:3bb129ab-0e1b-4351-8fd9-e3db633eeb88
X-WR-CALDESC:This meeting is required for artists who have applied for the 
 Wearable Art Show.
X-WR-RELCALID:d312a74e49f76a4977c5ec73c04310bb
X-WR-TIMEZONE:America/Anchorage
BEGIN:VTIMEZONE
TZID:America/Anchorage
BEGIN:STANDARD
TZNAME:AKST
DTSTART:20231105T020000
TZOFFSETFROM:-0800
TZOFFSETTO:-0900
RDATE:20241103T020000
END:STANDARD
BEGIN:DAYLIGHT
TZNAME:AKDT
DTSTART:20230312T020000
TZOFFSETFROM:-0900
TZOFFSETTO:-0800
RDATE:20240310T020000
RDATE:20250309T020000
END:DAYLIGHT
END:VTIMEZONE
BEGIN:VEVENT
UID:c5b53f9a-551c-41e1-a005-d446e9f943ac
DTSTAMP:20260421T113252Z
DESCRIPTION:This meeting is required for artists who have applied for the W
 earable Art Show.
DTSTART;TZID=America/Anchorage:20240110T173000
DTEND;TZID=America/Anchorage:20240110T183000
LOCATION:
SUMMARY:Wearable Artist Mandatory Meeting
END:VEVENT
END:VCALENDAR
