BEGIN:VCALENDAR
VERSION:2.0
PRODID:-//www.ketchikanarts.org//NONSGML kigkonsult.se iCalcreator 2.30.10/
 /
CALSCALE:GREGORIAN
METHOD:PUBLISH
UID:25fe88f3-e0f7-4f27-8eff-434622680b51
X-WR-CALDESC:
X-WR-RELCALID:48b661ee6bb3c4408ccf9f1c5c81efc5
X-WR-TIMEZONE:America/Anchorage
BEGIN:VTIMEZONE
TZID:America/Anchorage
BEGIN:STANDARD
TZNAME:AKST
DTSTART:20231105T020000
TZOFFSETFROM:-0800
TZOFFSETTO:-0900
RDATE:20241103T020000
END:STANDARD
BEGIN:DAYLIGHT
TZNAME:AKDT
DTSTART:20230312T020000
TZOFFSETFROM:-0900
TZOFFSETTO:-0800
RDATE:20240310T020000
RDATE:20250309T020000
END:DAYLIGHT
END:VTIMEZONE
BEGIN:VEVENT
UID:b56ba7d6-e519-4318-93dd-ed4c6b3941bc
DTSTAMP:20260421T112904Z
DESCRIPTION:
DTSTART;TZID=America/Anchorage:20240109T190000
DTEND;TZID=America/Anchorage:20240109T210000
LOCATION:Creek Street Cabarert
SUMMARY:Story SLAM 'Good Enough for Me'
END:VEVENT
END:VCALENDAR
