BEGIN:VCALENDAR
VERSION:2.0
PRODID:-//www.ketchikanarts.org//NONSGML kigkonsult.se iCalcreator 2.30.10/
 /
CALSCALE:GREGORIAN
METHOD:PUBLISH
UID:8f3271c9-f18b-4d55-83b1-fefb707a6979
X-WR-CALDESC:You get a surprising amount of exercise while dancing for an h
 our and a half PLUS it is HIGHLY likely that you will laugh more than if y
 ou go to the gym and lift weights. You don't need to know how to dance to 
 attend!\n\nYou don't need a partner to be able to show up. This is a great
  activity to show up solo to. There are friends waiting for you here!\n
X-WR-RELCALID:8cca5904bf6f52e7851a7ffb63a86e51
X-WR-TIMEZONE:America/Anchorage
BEGIN:VTIMEZONE
TZID:America/Anchorage
BEGIN:STANDARD
TZNAME:AKST
DTSTART:20231105T020000
TZOFFSETFROM:-0800
TZOFFSETTO:-0900
RDATE:20241103T020000
END:STANDARD
BEGIN:DAYLIGHT
TZNAME:AKDT
DTSTART:20230312T020000
TZOFFSETFROM:-0900
TZOFFSETTO:-0800
RDATE:20240310T020000
RDATE:20250309T020000
END:DAYLIGHT
END:VTIMEZONE
BEGIN:VEVENT
UID:d935220a-6728-46e9-899e-2291afa886b2
DTSTAMP:20260421T113316Z
DESCRIPTION:You get a surprising amount of exercise while dancing for an ho
 ur and a half PLUS it is HIGHLY likely that you will laugh more than if yo
 u go to the gym and lift weights. You don't need to know how to dance to a
 ttend!\n\nYou don't need a partner to be able to show up. This is a great 
 activity to show up solo to. There are friends waiting for you here!\n
DTSTART;TZID=America/Anchorage:20240108T180000
DTEND;TZID=America/Anchorage:20240108T193000
LOCATION:Main Street Gallery
SUMMARY:Swing Dance - BOOMbal Dance Hall
END:VEVENT
END:VCALENDAR
