BEGIN:VCALENDAR
VERSION:2.0
PRODID:-//www.ketchikanarts.org//NONSGML kigkonsult.se iCalcreator 2.30.10/
 /
CALSCALE:GREGORIAN
METHOD:PUBLISH
UID:759c2d3b-c1d5-45a1-9471-99266c56edb1
X-WR-CALDESC:You don't need to have anything prepared. Just come in ready t
 o read and play!!
X-WR-RELCALID:52c5cffccdd8c05212c0eb771716c1b3
X-WR-TIMEZONE:America/Anchorage
BEGIN:VTIMEZONE
TZID:America/Anchorage
BEGIN:STANDARD
TZNAME:AKST
DTSTART:20231105T020000
TZOFFSETFROM:-0800
TZOFFSETTO:-0900
RDATE:20241103T020000
END:STANDARD
BEGIN:DAYLIGHT
TZNAME:AKDT
DTSTART:20230312T020000
TZOFFSETFROM:-0900
TZOFFSETTO:-0800
RDATE:20240310T020000
RDATE:20250309T020000
END:DAYLIGHT
END:VTIMEZONE
BEGIN:VEVENT
UID:ba176689-9c11-47a0-8f25-a9216c9710d1
DTSTAMP:20260421T095732Z
DESCRIPTION:You don't need to have anything prepared. Just come in ready to
  read and play!!
DTSTART;TZID=America/Anchorage:20240104T183000
DTEND;TZID=America/Anchorage:20240104T190000
LOCATION:First City Players\, Ketchikan\, AK 99901 US
SUMMARY:Still Alice Auditions
END:VEVENT
END:VCALENDAR
