BEGIN:VCALENDAR
VERSION:2.0
PRODID:-//www.ketchikanarts.org//NONSGML kigkonsult.se iCalcreator 2.30.10/
 /
CALSCALE:GREGORIAN
METHOD:PUBLISH
UID:4d00a9ec-e03d-4d6f-a2c7-ae9cef3e6754
X-WR-CALDESC:Head out to the Creek Street Cabaret for a fond farewell to th
 e Soho Coho - a Ketchikan icon for 31 years!!!!
X-WR-RELCALID:60e45db86435581bf37245180626f2a1
X-WR-TIMEZONE:America/Anchorage
BEGIN:VTIMEZONE
TZID:America/Anchorage
BEGIN:STANDARD
TZNAME:AKST
DTSTART:20231105T020000
TZOFFSETFROM:-0800
TZOFFSETTO:-0900
RDATE:20241103T020000
END:STANDARD
BEGIN:DAYLIGHT
TZNAME:AKDT
DTSTART:20230312T020000
TZOFFSETFROM:-0900
TZOFFSETTO:-0800
RDATE:20240310T020000
RDATE:20250309T020000
END:DAYLIGHT
END:VTIMEZONE
BEGIN:VEVENT
UID:d7dc110e-da56-45b8-bfb9-c4af42079085
DTSTAMP:20260421T082533Z
DESCRIPTION:Head out to the Creek Street Cabaret for a fond farewell to the
  Soho Coho - a Ketchikan icon for 31 years!!!!
DTSTART;TZID=America/Anchorage:20231230T190000
DTEND;TZID=America/Anchorage:20231230T220000
LOCATION:123 Stedman St\, Ketchikan \, AK 99901 US
SUMMARY:The SOHO COHO Closing Celebration
END:VEVENT
END:VCALENDAR
