BEGIN:VCALENDAR
VERSION:2.0
PRODID:-//www.ketchikanarts.org//NONSGML kigkonsult.se iCalcreator 2.30.10/
 /
CALSCALE:GREGORIAN
METHOD:PUBLISH
UID:df9449f5-604c-4f2f-ba81-53c16f7f1ff1
X-WR-CALDESC:The wonderful Stephanie Patton hosts the show After Hours Alas
 ka every Wednesday from 9pm-11pm on KRBD. You can find out more informatio
 n here as she interview musicians on a weekly basis. \n\n
X-WR-RELCALID:7ffde7226f5bf80277cb91601be65d3e
X-WR-TIMEZONE:America/Anchorage
BEGIN:VTIMEZONE
TZID:America/Anchorage
BEGIN:STANDARD
TZNAME:AKST
DTSTART:20231105T020000
TZOFFSETFROM:-0800
TZOFFSETTO:-0900
RDATE:20241103T020000
END:STANDARD
BEGIN:DAYLIGHT
TZNAME:AKDT
DTSTART:20230312T020000
TZOFFSETFROM:-0900
TZOFFSETTO:-0800
RDATE:20240310T020000
RDATE:20250309T020000
END:DAYLIGHT
END:VTIMEZONE
BEGIN:VEVENT
UID:bc3f98cd-9751-4ae3-99ef-f94477814d57
DTSTAMP:20260421T083048Z
DESCRIPTION:The wonderful Stephanie Patton hosts the show After Hours Alask
 a every Wednesday from 9pm-11pm on KRBD. You can find out more information
  here as she interview musicians on a weekly basis. \n\n
DTSTART;TZID=America/Anchorage:20231220T210000
DTEND;TZID=America/Anchorage:20231220T230000
LOCATION:
SUMMARY:After Hours Alaska
END:VEVENT
END:VCALENDAR
