BEGIN:VCALENDAR
VERSION:2.0
PRODID:-//www.ketchikanarts.org//NONSGML kigkonsult.se iCalcreator 2.30.10/
 /
CALSCALE:GREGORIAN
METHOD:PUBLISH
UID:7a741cb2-dc39-4f42-9121-5bc8b505bd12
X-WR-CALDESC:-Kootznoowoo Wilderness\, Tongass NF\n-Misty Fjords National M
 onument\, Tongass NF\n-Nellie Juan -College Fiord Wilderness Study Area\, 
 Chugach NF\n-Sitka Ranger District Wilderness Areas\, Tongass NF\n-Tracy A
 rm-Ford’s Terror Wilderness\, Tongass NF\n-Aleutian Islands Wilderness\, A
 K Maritime NWR\n-Arctic Wilderness\, Arctic NWR\n-Innoko or Koyukuk Wilder
 ness\, Innoko/Koyukuk NWR\n-Togiak Wilderness\, Togiak NWR\n-Noatak Wilder
 ness\, Western Arctic National Parklands\n-Wrangell Saint-Elias Wilderness
 \, Wrangell Saint-Elias NP \n\nAttached are the 2020 information and appli
 cation.  Submissions are due by 11:59 pm AK Time March 1\, 2020.  Please v
 isit http://www.fs.usda.gov/goto/votw for more information from our past r
 esidencies.  We’ll hope to receive an application from you! \n
X-WR-RELCALID:e7083f436beced1b55dd6dd8075bde04
X-WR-TIMEZONE:America/Anchorage
BEGIN:VTIMEZONE
TZID:America/Anchorage
BEGIN:STANDARD
TZNAME:AKST
DTSTART:20191103T020000
TZOFFSETFROM:-0800
TZOFFSETTO:-0900
RDATE:20201101T020000
END:STANDARD
BEGIN:DAYLIGHT
TZNAME:AKDT
DTSTART:20190310T020000
TZOFFSETFROM:-0900
TZOFFSETTO:-0800
RDATE:20200308T020000
RDATE:20210314T020000
END:DAYLIGHT
END:VTIMEZONE
BEGIN:VEVENT
UID:5963ab19-3cda-4d25-80d3-b64aef9517ef
DTSTAMP:20260421T100237Z
DESCRIPTION:-Kootznoowoo Wilderness\, Tongass NF\n-Misty Fjords National Mo
 nument\, Tongass NF\n-Nellie Juan -College Fiord Wilderness Study Area\, C
 hugach NF\n-Sitka Ranger District Wilderness Areas\, Tongass NF\n-Tracy Ar
 m-Ford’s Terror Wilderness\, Tongass NF\n-Aleutian Islands Wilderness\, AK
  Maritime NWR\n-Arctic Wilderness\, Arctic NWR\n-Innoko or Koyukuk Wildern
 ess\, Innoko/Koyukuk NWR\n-Togiak Wilderness\, Togiak NWR\n-Noatak Wildern
 ess\, Western Arctic National Parklands\n-Wrangell Saint-Elias Wilderness\
 , Wrangell Saint-Elias NP \n\nAttached are the 2020 information and applic
 ation.  Submissions are due by 11:59 pm AK Time March 1\, 2020.  Please vi
 sit http://www.fs.usda.gov/goto/votw for more information from our past re
 sidencies.  We’ll hope to receive an application from you! \n
DTSTART;TZID=America/Anchorage:20200301T090000
DTEND;TZID=America/Anchorage:20200301T235900
LOCATION:USDA
SUMMARY:Voices of the Wilderness
END:VEVENT
END:VCALENDAR
