BEGIN:VCALENDAR
VERSION:2.0
PRODID:-//www.ketchikanarts.org//NONSGML kigkonsult.se iCalcreator 2.30.10/
 /
CALSCALE:GREGORIAN
METHOD:PUBLISH
UID:9b4c7e3b-7e25-4c38-8dea-349d98cb8045
X-WR-CALDESC:The KAAHC Board of Directors invites you to explore some of th
 e best Artisanal Gourmet Cheeses from Spain. Cheesemonger and proprietor o
 f Fromagio’s Artisan Cheese\, Helen Howarth (Anchorage)\, will guide you t
 hrough a special selection of farmstead cheeses produced in some surprisin
 g places throughout Spain as well as insight into the diversity of cheese 
 in terms of historical animal husbandry\, pastures\, climate\, and preserv
 ation.\n\nJohn DeCherney (Specialty Imports\, Juneau) will complete the ex
 perience with a special collection of wonderful Spanish wines to enhance t
 he flavors of the evening!\n\nThis delicious evening is a fantastic tastin
 g experience\, educational\, and you help support the Arts Council as you 
 enjoy yourself! Tickets are $100 each and seating is limited!! Please call
  to reserve your spot today 907-225-2211\n\nMust be 21 years of age or old
 er to attend.
X-WR-RELCALID:24cf7e10f70ba237e73b984525f5b76e
X-WR-TIMEZONE:America/Anchorage
BEGIN:VTIMEZONE
TZID:America/Anchorage
BEGIN:STANDARD
TZNAME:AKST
DTSTART:20191103T020000
TZOFFSETFROM:-0800
TZOFFSETTO:-0900
RDATE:20201101T020000
END:STANDARD
BEGIN:DAYLIGHT
TZNAME:AKDT
DTSTART:20190310T020000
TZOFFSETFROM:-0900
TZOFFSETTO:-0800
RDATE:20200308T020000
RDATE:20210314T020000
END:DAYLIGHT
END:VTIMEZONE
BEGIN:VEVENT
UID:add72938-f29b-4857-93ea-3c0ee32e59a8
DTSTAMP:20260421T112955Z
DESCRIPTION:The KAAHC Board of Directors invites you to explore some of the
  best Artisanal Gourmet Cheeses from Spain. Cheesemonger and proprietor of
  Fromagio’s Artisan Cheese\, Helen Howarth (Anchorage)\, will guide you th
 rough a special selection of farmstead cheeses produced in some surprising
  places throughout Spain as well as insight into the diversity of cheese i
 n terms of historical animal husbandry\, pastures\, climate\, and preserva
 tion.\n\nJohn DeCherney (Specialty Imports\, Juneau) will complete the exp
 erience with a special collection of wonderful Spanish wines to enhance th
 e flavors of the evening!\n\nThis delicious evening is a fantastic tasting
  experience\, educational\, and you help support the Arts Council as you e
 njoy yourself! Tickets are $100 each and seating is limited!! Please call 
 to reserve your spot today 907-225-2211\n\nMust be 21 years of age or olde
 r to attend.
DTSTART;TZID=America/Anchorage:20200229T190000
DTEND;TZID=America/Anchorage:20200229T210000
LOCATION:Creek Street Cabaret
SUMMARY:An Evening of Wine and Cheese Exploring Spain
END:VEVENT
END:VCALENDAR
