BEGIN:VCALENDAR
VERSION:2.0
PRODID:-//www.ketchikanarts.org//NONSGML kigkonsult.se iCalcreator 2.30.10/
 /
CALSCALE:GREGORIAN
METHOD:PUBLISH
UID:f2c9843a-42ef-4424-a2a1-a9578e92d841
X-WR-CALDESC:Get up close and personal with selected pieces from the 'Once 
 Upon A Time' 34th Annual Wearable Art Show! See the detail you cannot see 
 from the audience. Come appreciate the attention to detail and love of con
 struction!\n\nThere is no opening reception for this exhibit!
X-WR-RELCALID:875d1eaa2fdacd8e7a6fdc176c488c2f
X-WR-TIMEZONE:America/Anchorage
BEGIN:VTIMEZONE
TZID:America/Anchorage
BEGIN:STANDARD
TZNAME:AKST
DTSTART:20191103T020000
TZOFFSETFROM:-0800
TZOFFSETTO:-0900
RDATE:20201101T020000
END:STANDARD
BEGIN:DAYLIGHT
TZNAME:AKDT
DTSTART:20190310T020000
TZOFFSETFROM:-0900
TZOFFSETTO:-0800
RDATE:20200308T020000
RDATE:20210314T020000
END:DAYLIGHT
END:VTIMEZONE
BEGIN:VEVENT
UID:80f827e4-43dc-46a5-8e20-b3116c5ae03b
DTSTAMP:20260421T113202Z
DESCRIPTION:Get up close and personal with selected pieces from the 'Once U
 pon A Time' 34th Annual Wearable Art Show! See the detail you cannot see f
 rom the audience. Come appreciate the attention to detail and love of cons
 truction!\n\nThere is no opening reception for this exhibit!
DTSTART;TZID=America/Anchorage:20200208T110000
DTEND;TZID=America/Anchorage:20200228T170000
LOCATION:Main Street Gallery
SUMMARY:34th Annual Wearable Art Show Gallery Exhibit
END:VEVENT
END:VCALENDAR
