BEGIN:VCALENDAR
VERSION:2.0
PRODID:-//www.ketchikanarts.org//NONSGML kigkonsult.se iCalcreator 2.30.10/
 /
CALSCALE:GREGORIAN
METHOD:PUBLISH
UID:6f51a03e-25cb-4d42-bde5-bc54c98db723
X-WR-CALDESC:A Night of Swing Dancing \n$5 at the door\n
X-WR-RELCALID:c9144e5759e08d8737a7be5c2421a57b
X-WR-TIMEZONE:America/Anchorage
BEGIN:VTIMEZONE
TZID:America/Anchorage
BEGIN:STANDARD
TZNAME:AKST
DTSTART:20191103T020000
TZOFFSETFROM:-0800
TZOFFSETTO:-0900
RDATE:20201101T020000
END:STANDARD
BEGIN:DAYLIGHT
TZNAME:AKDT
DTSTART:20190310T020000
TZOFFSETFROM:-0900
TZOFFSETTO:-0800
RDATE:20200308T020000
RDATE:20210314T020000
END:DAYLIGHT
END:VTIMEZONE
BEGIN:VEVENT
UID:96076d6c-0903-4c58-bdde-475a01d737f5
DTSTAMP:20260421T125732Z
DESCRIPTION:A Night of Swing Dancing \n$5 at the door\n
DTSTART;TZID=America/Anchorage:20200222T190000
DTEND;TZID=America/Anchorage:20200222T220000
LOCATION:Creek Street Cabaret
SUMMARY:BOOMball Dance Hall
END:VEVENT
END:VCALENDAR
