BEGIN:VCALENDAR
VERSION:2.0
PRODID:-//www.ketchikanarts.org//NONSGML kigkonsult.se iCalcreator 2.30.10/
 /
CALSCALE:GREGORIAN
METHOD:PUBLISH
UID:454c9cc7-1514-41b9-a345-8cbf31364991
X-WR-CALDESC:Ketchikan Theatre Ballet presents An Evening of Dance. This pe
 rformance showcases KTB Company dancers\, upper jazz\, and tap students\, 
 along with other guests from our local community.\nThursday evening only a
  dinner is available before the show.  $15 all proceeds fund Senior Compan
 y's trip to New York. Dinner will be served in the Kayhi Commons.\n7:30 - 
 9:00 pm. Kayhi Auditorium General Admission $15
X-WR-RELCALID:c65b873eb60c3a4f55e5d2fb340deeda
X-WR-TIMEZONE:America/Anchorage
BEGIN:VTIMEZONE
TZID:America/Anchorage
BEGIN:STANDARD
TZNAME:AKST
DTSTART:20191103T020000
TZOFFSETFROM:-0800
TZOFFSETTO:-0900
RDATE:20201101T020000
END:STANDARD
BEGIN:DAYLIGHT
TZNAME:AKDT
DTSTART:20190310T020000
TZOFFSETFROM:-0900
TZOFFSETTO:-0800
RDATE:20200308T020000
RDATE:20210314T020000
END:DAYLIGHT
END:VTIMEZONE
BEGIN:VEVENT
UID:e8bc3384-a265-4e5c-8390-cbab29115007
DTSTAMP:20260421T125911Z
DESCRIPTION:Ketchikan Theatre Ballet presents An Evening of Dance. This per
 formance showcases KTB Company dancers\, upper jazz\, and tap students\, a
 long with other guests from our local community.\nThursday evening only a 
 dinner is available before the show.  $15 all proceeds fund Senior Company
 's trip to New York. Dinner will be served in the Kayhi Commons.\n7:30 - 9
 :00 pm. Kayhi Auditorium General Admission $15
DTSTART;TZID=America/Anchorage:20200221T193000
DTEND;TZID=America/Anchorage:20200221T210000
LOCATION:Kayhi Auditorium
SUMMARY:Evening of Dance
END:VEVENT
END:VCALENDAR
