BEGIN:VCALENDAR
VERSION:2.0
PRODID:-//www.ketchikanarts.org//NONSGML kigkonsult.se iCalcreator 2.30.10/
 /
CALSCALE:GREGORIAN
METHOD:PUBLISH
UID:1bac0905-33ac-4548-a370-c4c8a7730a2c
X-WR-CALDESC:Yummy Dinner $15
X-WR-RELCALID:ba64b47d6e3a0c6371f87dfe0417493e
X-WR-TIMEZONE:America/Anchorage
BEGIN:VTIMEZONE
TZID:America/Anchorage
BEGIN:STANDARD
TZNAME:AKST
DTSTART:20191103T020000
TZOFFSETFROM:-0800
TZOFFSETTO:-0900
RDATE:20201101T020000
END:STANDARD
BEGIN:DAYLIGHT
TZNAME:AKDT
DTSTART:20190310T020000
TZOFFSETFROM:-0900
TZOFFSETTO:-0800
RDATE:20200308T020000
RDATE:20210314T020000
END:DAYLIGHT
END:VTIMEZONE
BEGIN:VEVENT
UID:b4485922-c9f9-4923-b1d4-904e4b9dfb6c
DTSTAMP:20260421T130116Z
DESCRIPTION:Yummy Dinner $15
DTSTART;TZID=America/Anchorage:20200220T173000
DTEND;TZID=America/Anchorage:20200220T193000
LOCATION:Kayhi Auditorium
SUMMARY:Evening of Dance Thursday Dinner
END:VEVENT
END:VCALENDAR
