BEGIN:VCALENDAR
VERSION:2.0
PRODID:-//www.ketchikanarts.org//NONSGML kigkonsult.se iCalcreator 2.30.10/
 /
CALSCALE:GREGORIAN
METHOD:PUBLISH
UID:21233b89-c0a2-40ae-b2d7-83748cab9c41
X-WR-CALDESC:Monthly Board of Directors Meeting
X-WR-RELCALID:d2bdf63e61efa011617694894076fdca
X-WR-TIMEZONE:America/Anchorage
BEGIN:VTIMEZONE
TZID:America/Anchorage
BEGIN:STANDARD
TZNAME:AKST
DTSTART:20191103T020000
TZOFFSETFROM:-0800
TZOFFSETTO:-0900
RDATE:20201101T020000
END:STANDARD
BEGIN:DAYLIGHT
TZNAME:AKDT
DTSTART:20190310T020000
TZOFFSETFROM:-0900
TZOFFSETTO:-0800
RDATE:20200308T020000
RDATE:20210314T020000
END:DAYLIGHT
END:VTIMEZONE
BEGIN:VEVENT
UID:cb371f4e-79c7-4447-bcb8-dd8b463e96a7
DTSTAMP:20260421T130105Z
DESCRIPTION:Monthly Board of Directors Meeting
DTSTART;TZID=America/Anchorage:20200219T173000
DTEND;TZID=America/Anchorage:20200219T190000
LOCATION:Main Street Gallery
SUMMARY:Ketchikan Area Arts and Humanities Board of Directors Meeting
END:VEVENT
END:VCALENDAR
