BEGIN:VCALENDAR
VERSION:2.0
PRODID:-//www.ketchikanarts.org//NONSGML kigkonsult.se iCalcreator 2.30.10/
 /
CALSCALE:GREGORIAN
METHOD:PUBLISH
UID:1602b313-481f-409e-9ed0-4de3ae8a9324
X-WR-CALDESC:
X-WR-RELCALID:e945163601a47282f04227c9d1b4bbaa
X-WR-TIMEZONE:America/Anchorage
BEGIN:VTIMEZONE
TZID:America/Anchorage
BEGIN:STANDARD
TZNAME:AKST
DTSTART:20191103T020000
TZOFFSETFROM:-0800
TZOFFSETTO:-0900
RDATE:20201101T020000
END:STANDARD
BEGIN:DAYLIGHT
TZNAME:AKDT
DTSTART:20190310T020000
TZOFFSETFROM:-0900
TZOFFSETTO:-0800
RDATE:20200308T020000
RDATE:20210314T020000
END:DAYLIGHT
END:VTIMEZONE
BEGIN:VEVENT
UID:5100bdd1-5784-40ef-a268-21d45899b1e4
DTSTAMP:20260421T144119Z
DESCRIPTION:
DTSTART;TZID=America/Anchorage:20200215T100000
DTEND;TZID=America/Anchorage:20200215T180000
LOCATION:Ted Ferry Civic Center
SUMMARY:The 29th Annual Quilting in the Rain Quilt Show!
END:VEVENT
END:VCALENDAR
