BEGIN:VCALENDAR
VERSION:2.0
PRODID:-//www.ketchikanarts.org//NONSGML kigkonsult.se iCalcreator 2.30.10/
 /
CALSCALE:GREGORIAN
METHOD:PUBLISH
UID:aabdec93-3922-4b42-82ee-2e0c119a3872
X-WR-CALDESC:FREE  FREE FREE\nMusic Reading Workshop by Rob Holston\nSIGHT 
 READING\, EAR TRAINING\, KEY CHANGES & MORE: Adults\, Parents\, Students\,
  Jr.HI & HS.\n                     “All are welcome.”\n“MUSIC THEORY BECOM
 ES MUSIC FACTS”\nBring your smart phone- breakfast & lunch available for p
 urchase\n\n10:30 AM Saturdays:  Feb. 15\, 22\, 29\n@ SKYLAR’S TABLE- (CARL
 IN AIR BUILDING)\n\n
X-WR-RELCALID:1d66312fa08ecf5a50af94840c06cf71
X-WR-TIMEZONE:America/Anchorage
BEGIN:VTIMEZONE
TZID:America/Anchorage
BEGIN:STANDARD
TZNAME:AKST
DTSTART:20191103T020000
TZOFFSETFROM:-0800
TZOFFSETTO:-0900
RDATE:20201101T020000
END:STANDARD
BEGIN:DAYLIGHT
TZNAME:AKDT
DTSTART:20190310T020000
TZOFFSETFROM:-0900
TZOFFSETTO:-0800
RDATE:20200308T020000
RDATE:20210314T020000
END:DAYLIGHT
END:VTIMEZONE
BEGIN:VEVENT
UID:49aa90ff-4fca-4356-b51e-6f47d2f2ef01
DTSTAMP:20260421T143712Z
DESCRIPTION:FREE  FREE FREE\nMusic Reading Workshop by Rob Holston\nSIGHT R
 EADING\, EAR TRAINING\, KEY CHANGES & MORE: Adults\, Parents\, Students\, 
 Jr.HI & HS.\n                     “All are welcome.”\n“MUSIC THEORY BECOME
 S MUSIC FACTS”\nBring your smart phone- breakfast & lunch available for pu
 rchase\n\n10:30 AM Saturdays:  Feb. 15\, 22\, 29\n@ SKYLAR’S TABLE- (CARLI
 N AIR BUILDING)\n\n
DTSTART;TZID=America/Anchorage:20200215T103000
DTEND;TZID=America/Anchorage:20200215T113000
LOCATION:Skylar's Table
SUMMARY:Music Reading Workshop
END:VEVENT
END:VCALENDAR
