BEGIN:VCALENDAR
VERSION:2.0
PRODID:-//www.ketchikanarts.org//NONSGML kigkonsult.se iCalcreator 2.30.10/
 /
CALSCALE:GREGORIAN
METHOD:PUBLISH
UID:1c0762ae-7e2f-4a15-be7d-4076d2312e03
X-WR-CALDESC:Fun evening out! Bring your Valentine to Square Dancing! \n$5 
 at the door.
X-WR-RELCALID:6008376e99658d892660c87f5eafd35d
X-WR-TIMEZONE:America/Anchorage
BEGIN:VTIMEZONE
TZID:America/Anchorage
BEGIN:STANDARD
TZNAME:AKST
DTSTART:20191103T020000
TZOFFSETFROM:-0800
TZOFFSETTO:-0900
RDATE:20201101T020000
END:STANDARD
BEGIN:DAYLIGHT
TZNAME:AKDT
DTSTART:20190310T020000
TZOFFSETFROM:-0900
TZOFFSETTO:-0800
RDATE:20200308T020000
RDATE:20210314T020000
END:DAYLIGHT
END:VTIMEZONE
BEGIN:VEVENT
UID:affef415-39a7-4902-b633-1e19aa327766
DTSTAMP:20260421T143431Z
DESCRIPTION:Fun evening out! Bring your Valentine to Square Dancing! \n$5 a
 t the door.
DTSTART;TZID=America/Anchorage:20200214T190000
DTEND;TZID=America/Anchorage:20200214T210000
LOCATION:Creek Street Cabaret
SUMMARY:Alaska Square Dance
END:VEVENT
END:VCALENDAR
