BEGIN:VCALENDAR
VERSION:2.0
PRODID:-//www.ketchikanarts.org//NONSGML kigkonsult.se iCalcreator 2.30.10/
 /
CALSCALE:GREGORIAN
METHOD:PUBLISH
UID:c544353b-0d95-4389-9eb8-6a89020dbfc6
X-WR-CALDESC:The Sea Strummers is a ukulele group that meets once a week. T
 hey welcome new people/musicians. \n
X-WR-RELCALID:2d8b00d9f7f42382f9d346f599beef17
X-WR-TIMEZONE:America/Anchorage
BEGIN:VTIMEZONE
TZID:America/Anchorage
BEGIN:STANDARD
TZNAME:AKST
DTSTART:20191103T020000
TZOFFSETFROM:-0800
TZOFFSETTO:-0900
RDATE:20201101T020000
END:STANDARD
BEGIN:DAYLIGHT
TZNAME:AKDT
DTSTART:20190310T020000
TZOFFSETFROM:-0900
TZOFFSETTO:-0800
RDATE:20200308T020000
RDATE:20210314T020000
END:DAYLIGHT
END:VTIMEZONE
BEGIN:VEVENT
UID:5cf717d5-85b8-4a78-9717-ffc3f847b0e3
DTSTAMP:20260421T143843Z
DESCRIPTION:The Sea Strummers is a ukulele group that meets once a week. Th
 ey welcome new people/musicians. \n
DTSTART;TZID=America/Anchorage:20200212T183000
DTEND;TZID=America/Anchorage:20200212T193000
LOCATION:Bayside Hotel Lobby
SUMMARY:Sea Strummers Ukulele Group
END:VEVENT
END:VCALENDAR
