BEGIN:VCALENDAR
VERSION:2.0
PRODID:-//www.ketchikanarts.org//NONSGML kigkonsult.se iCalcreator 2.30.10/
 /
CALSCALE:GREGORIAN
METHOD:PUBLISH
UID:23ee500b-0c54-4fd4-9889-4a3bb6b6bafe
X-WR-CALDESC:$5 at the door - All are welcome!!!\n\nAll dances are taught -
  Live music by The Free Radicals!!!
X-WR-RELCALID:88462cfda764941388d34ee1e77abeba
X-WR-TIMEZONE:America/Anchorage
BEGIN:VTIMEZONE
TZID:America/Anchorage
BEGIN:STANDARD
TZNAME:AKST
DTSTART:20301103T020000
TZOFFSETFROM:-0800
TZOFFSETTO:-0900
RDATE:20311102T020000
RDATE:20321107T020000
END:STANDARD
BEGIN:DAYLIGHT
TZNAME:AKDT
DTSTART:20310309T020000
TZOFFSETFROM:-0900
TZOFFSETTO:-0800
RDATE:20320314T020000
RDATE:20330313T020000
END:DAYLIGHT
END:VTIMEZONE
BEGIN:VEVENT
UID:bb549775-edcc-4569-bfb0-ab06e17b0184
DTSTAMP:20260423T152941Z
DESCRIPTION:$5 at the door - All are welcome!!!\n\nAll dances are taught - 
 Live music by The Free Radicals!!!
DTSTART;TZID=America/Anchorage:20310912T190000
DTEND;TZID=America/Anchorage:20310912T210000
LOCATION:Creek Street Cabaret
SUMMARY:Square Dance!!!
END:VEVENT
END:VCALENDAR
