BEGIN:VCALENDAR
VERSION:2.0
PRODID:-//www.ketchikanarts.org//NONSGML kigkonsult.se iCalcreator 2.30.10/
 /
CALSCALE:GREGORIAN
METHOD:PUBLISH
UID:fa617b32-30de-4176-b436-8426cf9f82ab
X-WR-CALDESC:
X-WR-RELCALID:59f44f5da68b07d1513098c84221e4fe
X-WR-TIMEZONE:America/Anchorage
BEGIN:VTIMEZONE
TZID:America/Anchorage
BEGIN:STANDARD
TZNAME:AKST
DTSTART:20301103T020000
TZOFFSETFROM:-0800
TZOFFSETTO:-0900
RDATE:20311102T020000
END:STANDARD
BEGIN:DAYLIGHT
TZNAME:AKDT
DTSTART:20300310T020000
TZOFFSETFROM:-0900
TZOFFSETTO:-0800
RDATE:20310309T020000
RDATE:20320314T020000
END:DAYLIGHT
END:VTIMEZONE
BEGIN:VEVENT
UID:2a8521d6-1371-4476-8ada-9d6cae6c30b4
DTSTAMP:20260423T040443Z
DESCRIPTION:
DTSTART;TZID=America/Anchorage:20310216T020000
DTEND;TZID=America/Anchorage:20310216T020001
LOCATION:
SUMMARY:Elizabeth Peratrovich Day!
END:VEVENT
END:VCALENDAR
