BEGIN:VCALENDAR
VERSION:2.0
PRODID:-//www.ketchikanarts.org//NONSGML kigkonsult.se iCalcreator 2.30.10/
 /
CALSCALE:GREGORIAN
METHOD:PUBLISH
UID:320f25c8-9f94-491b-bf89-8e2a7c0849c5
X-WR-CALDESC:$5 at the door - All are welcome!!!\n\nAll dances are taught -
  Live music by The Free Radicals!!!
X-WR-RELCALID:b667f4eecc19325943db9e1122a08202
X-WR-TIMEZONE:America/Anchorage
BEGIN:VTIMEZONE
TZID:America/Anchorage
BEGIN:STANDARD
TZNAME:AKST
DTSTART:20291104T020000
TZOFFSETFROM:-0800
TZOFFSETTO:-0900
RDATE:20301103T020000
RDATE:20311102T020000
END:STANDARD
BEGIN:DAYLIGHT
TZNAME:AKDT
DTSTART:20300310T020000
TZOFFSETFROM:-0900
TZOFFSETTO:-0800
RDATE:20310309T020000
END:DAYLIGHT
END:VTIMEZONE
BEGIN:VEVENT
UID:3816c1cb-438a-4ff7-a03b-0570ae347c7e
DTSTAMP:20260422T142805Z
DESCRIPTION:$5 at the door - All are welcome!!!\n\nAll dances are taught - 
 Live music by The Free Radicals!!!
DTSTART;TZID=America/Anchorage:20300510T190000
DTEND;TZID=America/Anchorage:20300510T210000
LOCATION:Creek Street Cabaret
SUMMARY:Square Dance!!!
END:VEVENT
END:VCALENDAR
