BEGIN:VCALENDAR
VERSION:2.0
PRODID:-//www.ketchikanarts.org//NONSGML kigkonsult.se iCalcreator 2.30.10/
 /
CALSCALE:GREGORIAN
METHOD:PUBLISH
UID:c2ecb6b5-90b6-4aa5-88e2-87c4ceaba33f
X-WR-CALDESC:
X-WR-RELCALID:cf17e2c01e4ee884d3e5fe6083ab4bae
X-WR-TIMEZONE:America/Anchorage
BEGIN:VTIMEZONE
TZID:America/Anchorage
BEGIN:STANDARD
TZNAME:AKST
DTSTART:20291104T020000
TZOFFSETFROM:-0800
TZOFFSETTO:-0900
RDATE:20301103T020000
END:STANDARD
BEGIN:DAYLIGHT
TZNAME:AKDT
DTSTART:20290311T020000
TZOFFSETFROM:-0900
TZOFFSETTO:-0800
RDATE:20300310T020000
RDATE:20310309T020000
END:DAYLIGHT
END:VTIMEZONE
BEGIN:VEVENT
UID:78a58147-6214-4da4-8f2e-d78837a59d3f
DTSTAMP:20260422T093944Z
DESCRIPTION:
DTSTART;TZID=America/Anchorage:20300216T020000
DTEND;TZID=America/Anchorage:20300216T020001
LOCATION:
SUMMARY:Elizabeth Peratrovich Day!
END:VEVENT
END:VCALENDAR
