BEGIN:VCALENDAR
VERSION:2.0
PRODID:-//www.ketchikanarts.org//NONSGML kigkonsult.se iCalcreator 2.30.10/
 /
CALSCALE:GREGORIAN
METHOD:PUBLISH
UID:178802e8-53c7-4bdf-bc77-ee7358dc8775
X-WR-CALDESC:$5 at the door - All are welcome!!!\n\nAll dances are taught -
  Live music by The Free Radicals!!!
X-WR-RELCALID:e6d84f844fbd374ecfaa65405e695264
X-WR-TIMEZONE:America/Anchorage
BEGIN:VTIMEZONE
TZID:America/Anchorage
BEGIN:STANDARD
TZNAME:AKST
DTSTART:20281105T020000
TZOFFSETFROM:-0800
TZOFFSETTO:-0900
RDATE:20291104T020000
END:STANDARD
BEGIN:DAYLIGHT
TZNAME:AKDT
DTSTART:20290311T020000
TZOFFSETFROM:-0900
TZOFFSETTO:-0800
RDATE:20300310T020000
END:DAYLIGHT
END:VTIMEZONE
BEGIN:VEVENT
UID:3b0285c0-7f26-439f-9514-86423c4a1126
DTSTAMP:20260421T171808Z
DESCRIPTION:$5 at the door - All are welcome!!!\n\nAll dances are taught - 
 Live music by The Free Radicals!!!
DTSTART;TZID=America/Anchorage:20290413T190000
DTEND;TZID=America/Anchorage:20290413T210000
LOCATION:Creek Street Cabaret
SUMMARY:Square Dance!!!
END:VEVENT
END:VCALENDAR
