BEGIN:VCALENDAR
VERSION:2.0
PRODID:-//www.ketchikanarts.org//NONSGML kigkonsult.se iCalcreator 2.30.10/
 /
CALSCALE:GREGORIAN
METHOD:PUBLISH
UID:81e14bb2-ab74-4119-962e-0cc81683d87b
X-WR-CALDESC:
X-WR-RELCALID:0379d2aa3a636eed699f956ec51d277b
X-WR-TIMEZONE:America/Anchorage
BEGIN:VTIMEZONE
TZID:America/Anchorage
BEGIN:STANDARD
TZNAME:AKST
DTSTART:20281105T020000
TZOFFSETFROM:-0800
TZOFFSETTO:-0900
RDATE:20291104T020000
END:STANDARD
BEGIN:DAYLIGHT
TZNAME:AKDT
DTSTART:20280312T020000
TZOFFSETFROM:-0900
TZOFFSETTO:-0800
RDATE:20290311T020000
RDATE:20300310T020000
END:DAYLIGHT
END:VTIMEZONE
BEGIN:VEVENT
UID:df5cf21e-5552-4ec7-9674-3d14e4ecbd4e
DTSTAMP:20260421T141759Z
DESCRIPTION:
DTSTART;TZID=America/Anchorage:20290216T020000
DTEND;TZID=America/Anchorage:20290216T020001
LOCATION:
SUMMARY:Elizabeth Peratrovich Day!
END:VEVENT
END:VCALENDAR
