BEGIN:VCALENDAR
VERSION:2.0
PRODID:-//www.ketchikanarts.org//NONSGML kigkonsult.se iCalcreator 2.30.10/
 /
CALSCALE:GREGORIAN
METHOD:PUBLISH
UID:078161a3-bbe7-4118-b34d-04a632eebb5e
X-WR-CALDESC:The Monthly Grind\nSaturday\, October 21\, 2023\nSaxman Tribal
  House\nDoors open at 6:30\, Performance at 7pm\n\nTickets may be availabl
 e at the door\n\nBring a homemade DESSERT and get a ticket refund
X-WR-RELCALID:df3668444c32675e7ff4e1693baf22c0
X-WR-TIMEZONE:America/Anchorage
BEGIN:VTIMEZONE
TZID:America/Anchorage
BEGIN:STANDARD
TZNAME:AKST
DTSTART:20221106T020000
TZOFFSETFROM:-0800
TZOFFSETTO:-0900
RDATE:20231105T020000
RDATE:20241103T020000
END:STANDARD
BEGIN:DAYLIGHT
TZNAME:AKDT
DTSTART:20230312T020000
TZOFFSETFROM:-0900
TZOFFSETTO:-0800
RDATE:20240310T020000
RDATE:20250309T020000
END:DAYLIGHT
END:VTIMEZONE
BEGIN:VEVENT
UID:e333a654-6d96-4bea-9b35-5ff6a172934e
DTSTAMP:20260421T082204Z
DESCRIPTION:The Monthly Grind\nSaturday\, October 21\, 2023\nSaxman Tribal 
 House\nDoors open at 6:30\, Performance at 7pm\n\nTickets may be available
  at the door\n\nBring a homemade DESSERT and get a ticket refund
DTSTART;TZID=America/Anchorage:20231021T183000
DTEND;TZID=America/Anchorage:20231021T210000
LOCATION:
SUMMARY:The Monthly Grind!!!!
END:VEVENT
END:VCALENDAR
