BEGIN:VCALENDAR
VERSION:2.0
PRODID:-//www.ketchikanarts.org//NONSGML kigkonsult.se iCalcreator 2.30.10/
 /
CALSCALE:GREGORIAN
METHOD:PUBLISH
UID:dc413aa7-45e8-49cb-9cd1-0522baca7ca0
X-WR-CALDESC:
X-WR-RELCALID:d38e4acf2c0d59da9c9b297cc72011ef
X-WR-TIMEZONE:America/Anchorage
BEGIN:VTIMEZONE
TZID:America/Anchorage
BEGIN:STANDARD
TZNAME:AKST
DTSTART:20221106T020000
TZOFFSETFROM:-0800
TZOFFSETTO:-0900
RDATE:20231105T020000
RDATE:20241103T020000
END:STANDARD
BEGIN:DAYLIGHT
TZNAME:AKDT
DTSTART:20230312T020000
TZOFFSETFROM:-0900
TZOFFSETTO:-0800
RDATE:20240310T020000
END:DAYLIGHT
END:VTIMEZONE
BEGIN:VEVENT
UID:ffd9f765-f621-44d6-8cf8-550195c038a0
DTSTAMP:20260419T120319Z
DESCRIPTION:
DTSTART;TZID=America/Anchorage:20230825T120000
DTEND;TZID=America/Anchorage:20230825T130000
LOCATION:
SUMMARY:Music on the Dock - Ketchikan Flute Band
END:VEVENT
END:VCALENDAR
