BEGIN:VCALENDAR
VERSION:2.0
PRODID:-//www.ketchikanarts.org//NONSGML kigkonsult.se iCalcreator 2.30.10/
 /
CALSCALE:GREGORIAN
METHOD:PUBLISH
UID:aa4fb395-d799-47cc-9af1-f3ffb059ca62
X-WR-CALDESC:The New York Café proudly presents The Red Lantern’s “A Night 
 of the Senses”\, an evening of live burlesque & exquisite food.\nThe New Y
 ork Café is absolutely thrilled to be the debut venue for Ketchikan’s home
 -grown burlesque show extravaganza.\nTickets are $200 & include an entire 
 evening of risqué song & dance\, 5 courses of fancy food\, & a signature d
 rink.\n
X-WR-RELCALID:89a98b6d52bc38b9135526bfecd0c20f
X-WR-TIMEZONE:America/Anchorage
BEGIN:VTIMEZONE
TZID:America/Anchorage
BEGIN:STANDARD
TZNAME:AKST
DTSTART:20221106T020000
TZOFFSETFROM:-0800
TZOFFSETTO:-0900
RDATE:20231105T020000
RDATE:20241103T020000
END:STANDARD
BEGIN:DAYLIGHT
TZNAME:AKDT
DTSTART:20230312T020000
TZOFFSETFROM:-0900
TZOFFSETTO:-0800
RDATE:20240310T020000
END:DAYLIGHT
END:VTIMEZONE
BEGIN:VEVENT
UID:9840d12c-526a-4631-b372-c4168b53b605
DTSTAMP:20260419T120201Z
DESCRIPTION:The New York Café proudly presents The Red Lantern’s “A Night o
 f the Senses”\, an evening of live burlesque & exquisite food.\nThe New Yo
 rk Café is absolutely thrilled to be the debut venue for Ketchikan’s home-
 grown burlesque show extravaganza.\nTickets are $200 & include an entire e
 vening of risqué song & dance\, 5 courses of fancy food\, & a signature dr
 ink.\n
DTSTART;TZID=America/Anchorage:20230819T190000
DTEND;TZID=America/Anchorage:20230819T210000
LOCATION:
SUMMARY:The Red Lantern's 'A Night of the Senses' -
END:VEVENT
END:VCALENDAR
